BEGIN:VCALENDAR
VERSION:2.0
PRODID:-//Katholische Pfarrei Neuwied St. Matthias - ECPv6.5.1.6//NONSGML v1.0//EN
CALSCALE:GREGORIAN
METHOD:PUBLISH
X-WR-CALNAME:Katholische Pfarrei Neuwied St. Matthias
X-ORIGINAL-URL:https://katholisch-neuwied.de
X-WR-CALDESC:Veranstaltungen für Katholische Pfarrei Neuwied St. Matthias
REFRESH-INTERVAL;VALUE=DURATION:PT1H
X-Robots-Tag:noindex
X-PUBLISHED-TTL:PT1H
BEGIN:VTIMEZONE
TZID:Europe/Berlin
BEGIN:DAYLIGHT
TZOFFSETFROM:+0100
TZOFFSETTO:+0200
TZNAME:CEST
DTSTART:20260329T010000
END:DAYLIGHT
BEGIN:STANDARD
TZOFFSETFROM:+0200
TZOFFSETTO:+0100
TZNAME:CET
DTSTART:20261025T010000
END:STANDARD
END:VTIMEZONE
BEGIN:VEVENT
DTSTART;TZID=Europe/Berlin:20260425T173000
DTEND;TZID=Europe/Berlin:20260425T173000
DTSTAMP:20260422T105223
CREATED:20260418T121226Z
LAST-MODIFIED:20260418T121320Z
UID:11649-1777138200-1777138200@katholisch-neuwied.de
SUMMARY:St. Bonifatius: sonntags:zeit
DESCRIPTION:
URL:https://katholisch-neuwied.de/event/st-bonifatius-sonntagszeit/
CATEGORIES:Veranstaltungen (allgemein)
ATTACH;FMTTYPE=image/jpeg:https://katholisch-neuwied.de/wp-content/uploads/2023/03/Beitragsbild-sonntagszeit.jpg
END:VEVENT
BEGIN:VEVENT
DTSTART;TZID=Europe/Berlin:20260426T103000
DTEND;TZID=Europe/Berlin:20260426T103000
DTSTAMP:20260422T105223
CREATED:20260420T105934Z
LAST-MODIFIED:20260420T105934Z
UID:11692-1777199400-1777199400@katholisch-neuwied.de
SUMMARY:St. Peter+Paul: Familienkirche
DESCRIPTION:
URL:https://katholisch-neuwied.de/event/st-peterpaul-familienkirche/
CATEGORIES:Veranstaltungen (allgemein)
ATTACH;FMTTYPE=image/jpeg:https://katholisch-neuwied.de/wp-content/uploads/2021/08/Beitragsbild-STPP.jpg
END:VEVENT
BEGIN:VEVENT
DTSTART;TZID=Europe/Berlin:20260427T190000
DTEND;TZID=Europe/Berlin:20260427T190000
DTSTAMP:20260422T105223
CREATED:20260312T190611Z
LAST-MODIFIED:20260415T103229Z
UID:11459-1777316400-1777316400@katholisch-neuwied.de
SUMMARY:Kath. Familien-Bildungsstätte: Einblicke ins Markusevangelium
DESCRIPTION:  \nNach dem erfolgreichen Start der Reihe „Ein gescheiterter Erlöser?“ folgt am Montag\, 27. April 2026\, um 19:00 Uhr in der Katholischen Familienbildungsstätte Neuwied ein weiterer Abend zum Markusevangelium. Referent ist Pastoralreferent Alexander Just aus dem Pastoralen Raum Neuwied. \nIm Zentrum des Abends steht der Abschnitt „Du bist mein Geliebter Sohn … Er lebte bei wilden Tieren“ (Mk 1\,9-13)\, Taufe und Versuchung\, Wege der Befreiung oder der Knechtschaft. Der Abend widmet sich der Frage nach der Unterscheidung der Geister: Woran lässt sich erkennen\, ob Menschen sich an Gott orientieren – oder an falschen Götzen? \nDas Markusevangelium\, das älteste der Evangelien\, entstand in einer Zeit politischer Gewalt und religiöser Verunsicherung. Die Auseinandersetzung mit seinen Texten lädt dazu ein\, auch heutige Glaubens- und Lebensfragen neu zu bedenken. \n  \nWeitere Termine: \nMontag\, 18. Mai 2026\, 19:00 Uhr\n„Kehrt um\, und glaubt an das Evangelium“ (Mk 1\,14–20)\nUmkehr zum Menschenfischer \nMontag\, 22. Juni 2026\, 19:00 Uhr\n„Sogar die unreinen Geister gehorchen seinem Befehl“ (Mk 1\,21–28)\nUnreine Geister und der Heilige Gottes \nDie Reihe ist eine Kooperationsveranstaltung des Pastoralen Raums Neuwied\, der Katholischen Erwachsenenbildung Koblenz\, der Katholischen Familienbildungsstätte Neuwied und des Ökumenischen Netzes Rhein-Mosel-Saar e. V. \n 
URL:https://katholisch-neuwied.de/event/kath-familienbildungsstaette-einblicke-ins-markusevangelium-2/
CATEGORIES:Veranstaltungen (allgemein)
ATTACH;FMTTYPE=image/jpeg:https://katholisch-neuwied.de/wp-content/uploads/2023/06/Beitragsbild-Pastoraler-Raum-NR.jpg
END:VEVENT
BEGIN:VEVENT
DTSTART;TZID=Europe/Berlin:20260503T110000
DTEND;TZID=Europe/Berlin:20260503T110000
DTSTAMP:20260422T105223
CREATED:20260218T162400Z
LAST-MODIFIED:20260326T185330Z
UID:11284-1777806000-1777806000@katholisch-neuwied.de
SUMMARY:Hl. Kreuz: kinder:zeit
DESCRIPTION:
URL:https://katholisch-neuwied.de/event/hl-kreuz-kinderzeit-2/
ATTACH;FMTTYPE=image/jpeg:https://katholisch-neuwied.de/wp-content/uploads/2026/03/Beitragsbild-Kinderzeit.jpg
END:VEVENT
BEGIN:VEVENT
DTSTART;TZID=Europe/Berlin:20260503T180000
DTEND;TZID=Europe/Berlin:20260503T180000
DTSTAMP:20260422T105223
CREATED:20260420T103204Z
LAST-MODIFIED:20260420T103204Z
UID:11674-1777831200-1777831200@katholisch-neuwied.de
SUMMARY:St. Peter+Paul: kfd-Predigerinnentag 2026
DESCRIPTION:
URL:https://katholisch-neuwied.de/event/st-peterpaul-kfd-predigerinnentag-2026/
CATEGORIES:Veranstaltungen (allgemein)
ATTACH;FMTTYPE=image/jpeg:https://katholisch-neuwied.de/wp-content/uploads/2026/04/Beitragsbild-Predigerinnentag.jpg
END:VEVENT
BEGIN:VEVENT
DTSTART;TZID=Europe/Berlin:20260504T190000
DTEND;TZID=Europe/Berlin:20260504T190000
DTSTAMP:20260422T105223
CREATED:20260325T181101Z
LAST-MODIFIED:20260325T181101Z
UID:11553-1777921200-1777921200@katholisch-neuwied.de
SUMMARY:Pfarrheim St. Matthias: Bibel-Gesprächskreis für Männer
DESCRIPTION:Das zentrale Element unserer Treffen ist die Auseinandersetzung mit Texten aus dem Neuen Testament. Wir beschäftigen uns im Regelfall mit dem Evangelium des folgenden Sonntags. Dabei wenden wir die Methode des „Bibelteilens“ an\, die jedem Teilnehmer die Möglichkeit gibt\, sich einzubringen – ohne dass dafür Vorkenntnisse erforderlich wären. \nDie Treffen bauen nicht aufeinander auf\, so dass jederzeit ein Einstieg oder nur eine gelegentliche Teilnahme möglich ist. Wir treffen uns in der Regel an jedem ersten Montag eines Monats um 19:00 Uhr im „Matthiasstübchen“ (Pfarrheim bei der St.-Matthias-Kirche). Der „offizielle Teil“ – bestehend aus einem Gebet zu Beginn\, Bibelteilen\, Fürbitten\, Vaterunser und einem Schlussgebet – endet im Regelfall gegen 20:30 Uhr. \nDer nächste Gesprächskreis findet im Pfarrheim St. Matthias am Montag\, 4. Mai 2026 um 19:00 Uhr statt. \nZu unseren Treffen kommen Teilnehmer aller Altersstufen aus den verschiedenen Kirchorten der Pfarrei Neuwied St. Matthias. Also herzliche Einladung an alle interessierte Herren – neue Teilnehmer sind jederzeit willkommen! \nEine vorherige Anmeldung ist nicht erforderlich.
URL:https://katholisch-neuwied.de/event/pfarrheim-st-matthias-bibel-gespraechskreis-fuer-maenner/
CATEGORIES:Veranstaltungen (allgemein)
ATTACH;FMTTYPE=image/jpeg:https://katholisch-neuwied.de/wp-content/uploads/2021/03/St.-Matthias.jpg
END:VEVENT
BEGIN:VEVENT
DTSTART;TZID=Europe/Berlin:20260506T210000
DTEND;TZID=Europe/Berlin:20260506T210000
DTSTAMP:20260422T105223
CREATED:20260325T184038Z
LAST-MODIFIED:20260325T184038Z
UID:11565-1778101200-1778101200@katholisch-neuwied.de
SUMMARY:Krypta St. Michael: Abendlob
DESCRIPTION:Am Mittwoch\, den 6. Mai 2026 findet um 21:00 Uhr wieder das monatliche Abendlob in der Krypta St. Michael statt. \nMuss ich Flügel haben\,\num auf die Suche nach mir selbst zu gehen?\nIch brauche mich nur in die Stille zu begeben.\n(Teresa von Avila)
URL:https://katholisch-neuwied.de/event/krypta-st-michael-abendlob/
CATEGORIES:Veranstaltungen (allgemein)
ATTACH;FMTTYPE=image/jpeg:https://katholisch-neuwied.de/wp-content/uploads/2021/09/Beitragsbild-St.-Michael.jpg
END:VEVENT
BEGIN:VEVENT
DTSTART;TZID=Europe/Berlin:20260507T150000
DTEND;TZID=Europe/Berlin:20260507T150000
DTSTAMP:20260422T105223
CREATED:20260418T120046Z
LAST-MODIFIED:20260418T120046Z
UID:11647-1778166000-1778166000@katholisch-neuwied.de
SUMMARY:Feldkirche: kfd-Führung zu den Kirchenfenstern
DESCRIPTION:
URL:https://katholisch-neuwied.de/event/feldkirche-kfd-fuehrung-zu-den-kirchenfenstern/
CATEGORIES:Veranstaltungen (allgemein)
ATTACH;FMTTYPE=image/jpeg:https://katholisch-neuwied.de/wp-content/uploads/2023/01/Beitragsbild-kfd-Logo.jpg
END:VEVENT
BEGIN:VEVENT
DTSTART;TZID=Europe/Berlin:20260509T170000
DTEND;TZID=Europe/Berlin:20260509T170000
DTSTAMP:20260422T105223
CREATED:20260420T103527Z
LAST-MODIFIED:20260420T103527Z
UID:11676-1778346000-1778346000@katholisch-neuwied.de
SUMMARY:Liebfrauen: kfd-Predigerinnentag 2026
DESCRIPTION:
URL:https://katholisch-neuwied.de/event/liebfrauen-kfd-predigerinnentag-2026/
CATEGORIES:Veranstaltungen (allgemein)
ATTACH;FMTTYPE=image/jpeg:https://katholisch-neuwied.de/wp-content/uploads/2026/04/Beitragsbild-Predigerinnentag.jpg
END:VEVENT
BEGIN:VEVENT
DTSTART;TZID=Europe/Berlin:20260510T093000
DTEND;TZID=Europe/Berlin:20260510T093000
DTSTAMP:20260422T105223
CREATED:20260420T103748Z
LAST-MODIFIED:20260420T103748Z
UID:11679-1778405400-1778405400@katholisch-neuwied.de
SUMMARY:St. Matthias: kfd-Predigerinnentag 2026
DESCRIPTION:
URL:https://katholisch-neuwied.de/event/st-matthias-kfd-predigerinnentag-2026/
CATEGORIES:Veranstaltungen (allgemein)
ATTACH;FMTTYPE=image/jpeg:https://katholisch-neuwied.de/wp-content/uploads/2026/04/Beitragsbild-Predigerinnentag.jpg
END:VEVENT
BEGIN:VEVENT
DTSTART;TZID=Europe/Berlin:20260510T110000
DTEND;TZID=Europe/Berlin:20260510T110000
DTSTAMP:20260422T105223
CREATED:20260420T104001Z
LAST-MODIFIED:20260420T104001Z
UID:11681-1778410800-1778410800@katholisch-neuwied.de
SUMMARY:St. Michael: kfd-Predigerinnentag 2026
DESCRIPTION:
URL:https://katholisch-neuwied.de/event/st-michael-kfd-predigerinnentag-2026/
CATEGORIES:Veranstaltungen (allgemein)
ATTACH;FMTTYPE=image/jpeg:https://katholisch-neuwied.de/wp-content/uploads/2026/04/Beitragsbild-Predigerinnentag.jpg
END:VEVENT
BEGIN:VEVENT
DTSTART;TZID=Europe/Berlin:20260510T180000
DTEND;TZID=Europe/Berlin:20260510T180000
DTSTAMP:20260422T105223
CREATED:20260203T170737Z
LAST-MODIFIED:20260326T182657Z
UID:11131-1778436000-1778436000@katholisch-neuwied.de
SUMMARY:St. Matthias: Evensong
DESCRIPTION:
URL:https://katholisch-neuwied.de/event/evensong-neuwied-termine-2026/
CATEGORIES:Veranstaltungen (allgemein)
ATTACH;FMTTYPE=image/png:https://katholisch-neuwied.de/wp-content/uploads/2021/09/Beitragsbild-Neuwieder-Evensong.png
END:VEVENT
BEGIN:VEVENT
DTSTART;TZID=Europe/Berlin:20260514T110000
DTEND;TZID=Europe/Berlin:20260514T110000
DTSTAMP:20260422T105223
CREATED:20260325T184639Z
LAST-MODIFIED:20260325T184639Z
UID:11568-1778756400-1778756400@katholisch-neuwied.de
SUMMARY:Alter Sportplatz Feldkirchen: Ökumen. Waldgottesdienst
DESCRIPTION:Bei der Himmelfahrt Christi geht es nicht um ein tatsächlich geschehenes Verschwinden in den Wolken auf Nimmerwiedersehen. Der zentrale Gedanke lautet vielmehr\, dass Jesus wiederkommen wird und dass er gegenwärtig spürbar ist\, überall dort\, wo die Frohe Botschaft in Wort und Tat verkündet wird. \nAm Christi-Himmelfahrts-Tag (14. Mai 2026\, 11:00 Uhr) wollen wir dies in ökumenisch-christlicher Gemeinschaft miteinander tun\, wenn wir am „Alten Sportplatz Feldkirchen“ einen Ökumenischen Gottesdienst feiern (bei Regen in der Feldkirche). Musikalisch wird die Feier durch die Jagdhornbläser Neuwied mitgestaltet. Und wie im „Emmaus-Evangelium“ erkannten die Jüngern ihn\, als er das Brot brach. \nAlle sind im Anschluss des Gottesdienstes eingeladen\, miteinander das Brot „vom Grill“ zu teilen und in Gesprächen zu verweilen. \nHerzliche Einladung!
URL:https://katholisch-neuwied.de/event/alter-sportplatz-feldkirchen-oekumen-waldgottesdienst/
CATEGORIES:Veranstaltungen (allgemein)
ATTACH;FMTTYPE=image/jpeg:https://katholisch-neuwied.de/wp-content/uploads/2021/09/Beitragsbild-St.-Michael.jpg
END:VEVENT
BEGIN:VEVENT
DTSTART;TZID=Europe/Berlin:20260514T190000
DTEND;TZID=Europe/Berlin:20260514T190000
DTSTAMP:20260422T105223
CREATED:20260325T173655Z
LAST-MODIFIED:20260326T183653Z
UID:11541-1778785200-1778785200@katholisch-neuwied.de
SUMMARY:St. Matthias: Offenes Singen
DESCRIPTION:  \nDie Reihe der Offenen Singen in der Matthiaskirche führen wir an Christi Himmelfahrt\, Donnerstag\, 14. Mai 2026\, 19:00 Uhr\, fort. Unter dem Titel „Dem Himmel so nah“ singen wir bekannte und weniger bekannte Lieder zum Thema Himmel. Im Freiraum der Matthiaskirche gibt es Gelegenheit\, gemeinsam zu musizieren und Neues zu entdecken. \nDie musikalische Leitung liegt in den Händen von Jörg Rasbach. Texte steuert Gemeindereferentin Petra Frey bei. \nDer Eintritt ist wie immer frei.
URL:https://katholisch-neuwied.de/event/st-matthias-offenes-singen/
CATEGORIES:Veranstaltungen (allgemein)
ATTACH;FMTTYPE=image/jpeg:https://katholisch-neuwied.de/wp-content/uploads/2021/03/St.-Matthias.jpg
END:VEVENT
BEGIN:VEVENT
DTSTART;TZID=Europe/Berlin:20260516T173000
DTEND;TZID=Europe/Berlin:20260516T173000
DTSTAMP:20260422T105223
CREATED:20260420T104230Z
LAST-MODIFIED:20260420T104230Z
UID:11683-1778952600-1778952600@katholisch-neuwied.de
SUMMARY:St. Bonifatius: kfd-Predigerinnentag 2026
DESCRIPTION:
URL:https://katholisch-neuwied.de/event/st-bonifatius-kfd-predigerinnentag-2026/
CATEGORIES:Veranstaltungen (allgemein)
ATTACH;FMTTYPE=image/jpeg:https://katholisch-neuwied.de/wp-content/uploads/2026/04/Beitragsbild-Predigerinnentag.jpg
END:VEVENT
BEGIN:VEVENT
DTSTART;TZID=Europe/Berlin:20260517T110000
DTEND;TZID=Europe/Berlin:20260517T110000
DTSTAMP:20260422T105223
CREATED:20260420T104525Z
LAST-MODIFIED:20260420T104538Z
UID:11685-1779015600-1779015600@katholisch-neuwied.de
SUMMARY:Hl. Kreuz: kfd-Predigerinnentag 2026
DESCRIPTION:
URL:https://katholisch-neuwied.de/event/hl-kreuz-kfd-predigerinnentag-2026/
CATEGORIES:Veranstaltungen (allgemein)
ATTACH;FMTTYPE=image/jpeg:https://katholisch-neuwied.de/wp-content/uploads/2026/04/Beitragsbild-Predigerinnentag.jpg
END:VEVENT
BEGIN:VEVENT
DTSTART;TZID=Europe/Berlin:20260518T130000
DTEND;TZID=Europe/Berlin:20260518T170000
DTSTAMP:20260422T105223
CREATED:20260319T182304Z
LAST-MODIFIED:20260319T182304Z
UID:11506-1779109200-1779123600@katholisch-neuwied.de
SUMMARY:kfd St. Matthias: Wallfahrt nach Fraukirch
DESCRIPTION:Die Wallfahrt der kfd St. Matthias geht in diesem Jahr am 18. Mai 2026 nach Fraukirch in der Pellenz. Dort werden wir einen Wortgottesdienst feiern und anschließend nach Mendig zum Kaffeetrinken fahren. Rückfahrt ab Mendig ca. 17:00 Uhr. \nFahrtkosten: 15\,00 € Mitglieder\, 20\,00 € Nichtmitglieder \nAbfahrt an den Kirchen: Heilig Kreuz 13:00 Uhr\, St. Matthias 13:10 Uhr\, Liebfrauen 13:20 Uhr \nAnmeldung: Erika Salz\, Tel.: 02631/53534\, Maria Opper\, Tel.: 02631/24741
URL:https://katholisch-neuwied.de/event/kfd-st-matthias-wallfahrt-nach-fraukirch/
CATEGORIES:Veranstaltungen (allgemein)
ATTACH;FMTTYPE=image/jpeg:https://katholisch-neuwied.de/wp-content/uploads/2023/01/Beitragsbild-kfd-Logo.jpg
END:VEVENT
BEGIN:VEVENT
DTSTART;TZID=Europe/Berlin:20260518T190000
DTEND;TZID=Europe/Berlin:20260518T190000
DTSTAMP:20260422T105223
CREATED:20260312T191131Z
LAST-MODIFIED:20260312T191444Z
UID:11462-1779130800-1779130800@katholisch-neuwied.de
SUMMARY:Kath. Familien-Bildungsstätte: Einblicke ins Markusevangelium
DESCRIPTION:„Kehrt um\, und glaubt an das Evangelium“ (Mk 1\,14–20)\nUmkehr zum Menschenfischer \nDas Markusevangelium\, das älteste der vier Evangelien\, stellt eine ebenso herausfordernde wie faszinierende Frage: Kann ein gekreuzigter Mensch wirklich Erlöser sein? Pastoralreferent Alexander Just vom Pastoralen Raum Neuwied lädt dazu ein\, sich mit dieser provokanten Perspektive des Markusevangeliums auseinanderzusetzen. \nIm Mittelpunkt steht ein Messias „von unten“. Das Markusevangelium erzählt nicht von einem triumphierenden Sieger\, sondern von einem von der römischen Staatsmacht Gekreuzigten. Doch welche Hoffnung kann von einem solchen Messias ausgehen? Welche Bedeutung hat der Glaube an Jesus als Retter angesichts von Krieg\, Gewalt und Zerstörung? \nDie Markusgemeinde lebte unter der brutalen römischen Gewaltherrschaft und war geprägt vom Trauma des römisch-jüdischen Krieges\, der in der Zerstörung Jerusalems und des Tempels endete. Vor diesem Hintergrund richtet das Evangelium den Blick radikal auf die Kreuzigung Jesu. Der Glaube an Jesus als den Messias Israels musste neu bedacht\, neu ausgesprochen und neu geglaubt werden. \nIst der Glaube an Jesus als Messias angesichts von Leid\, Gewalt und Tod widerlegt?\nWie kann ein Gekreuzigter als Retter und Befreier verstanden werden?\nUnd ist die Hoffnung auf Auferstehung mehr als eine fromme Illusion? \nIn der Auseinandersetzung mit der Theologie des Markus geht es auch um unsere Gegenwart: Welche Orientierung kann der Glaube heute geben – mitten in den Krisen und Herausforderungen unserer Zeit? Die Reihe versteht sich als Einladung zum Nachdenken\, zum Fragen und zum Hoffen. \nWeiterer Termin: \nMontag\, 22. Juni 2026\, 19:00 Uhr\n„Sogar die unreinen Geister gehorchen seinem Befehl“ (Mk 1\,21–28)\nUnreine Geister und der Heilige Gottes \nDie Reihe ist eine Kooperationsveranstaltung des Pastoralen Raums Neuwied\, der Katholischen Erwachsenenbildung Koblenz\, der Katholischen Familienbildungsstätte Neuwied und des Ökumenischen Netzes Rhein-Mosel-Saar e. V. \n 
URL:https://katholisch-neuwied.de/event/kath-familien-bildungsstaette-einblicke-in-das-markusevangelium/
CATEGORIES:Veranstaltungen (allgemein)
ATTACH;FMTTYPE=image/jpeg:https://katholisch-neuwied.de/wp-content/uploads/2023/06/Beitragsbild-Pastoraler-Raum-NR.jpg
END:VEVENT
BEGIN:VEVENT
DTSTART;TZID=Europe/Berlin:20260519T090000
DTEND;TZID=Europe/Berlin:20260519T090000
DTSTAMP:20260422T105223
CREATED:20260325T180323Z
LAST-MODIFIED:20260325T180323Z
UID:11550-1779181200-1779181200@katholisch-neuwied.de
SUMMARY:Pfarrsaal St. Michael: Frühstück der kfd
DESCRIPTION:Das nächste Frühstück in Feldkirchen für Frauen ist am Dienstag\, 19. Mai 2026\, ab 9:00 Uhr im Pfarrsaal von St. Michael. \nBitte melden Sie sich unter der Tel.: 02631/72280 bei E. Opala an. Die Kosten betragen für Gäste 5\,00 €.
URL:https://katholisch-neuwied.de/event/pfarrsaal-st-michael-fruehstueck-der-kfd-2/
CATEGORIES:Veranstaltungen (allgemein)
ATTACH;FMTTYPE=image/jpeg:https://katholisch-neuwied.de/wp-content/uploads/2023/01/Beitragsbild-kfd-Logo.jpg
END:VEVENT
BEGIN:VEVENT
DTSTART;VALUE=DATE:20260520
DTEND;VALUE=DATE:20260521
DTSTAMP:20260422T105223
CREATED:20260218T161532Z
LAST-MODIFIED:20260218T161621Z
UID:11278-1779235200-1779321599@katholisch-neuwied.de
SUMMARY:Schiffswallfahrt nach Bornhofen
DESCRIPTION:Am Mittwoch\, 20. Mai 2026 wollen wir Christinnen und Christen unserer Pfarrei Neuwied St. Matthias uns wieder zusammen mit der Pfarrei Hl. Geist Heimbach-Engers\, der Pfarrei Vallendar und der Pfarrei Koblenz auf den Weg machen und gemeinsam zum Gnadenbild der „schmerzhaften Mutter Gottes“ nach Bornhofen pilgern.
URL:https://katholisch-neuwied.de/event/schiffswallfahrt-nach-bornhofen/
ATTACH;FMTTYPE=image/jpeg:https://katholisch-neuwied.de/wp-content/uploads/2022/12/Beitragsbild-Kreuz.jpg
END:VEVENT
BEGIN:VEVENT
DTSTART;TZID=Europe/Berlin:20260522T100000
DTEND;TZID=Europe/Berlin:20260522T100000
DTSTAMP:20260422T105223
CREATED:20260308T204503Z
LAST-MODIFIED:20260308T204516Z
UID:11429-1779444000-1779444000@katholisch-neuwied.de
SUMMARY:Glaubens-Gesprächskreis für Frauen
DESCRIPTION:
URL:https://katholisch-neuwied.de/event/glauben-gespraechskreis-fuer-frauen-2/
CATEGORIES:Veranstaltungen (allgemein)
ATTACH;FMTTYPE=image/png:https://katholisch-neuwied.de/wp-content/uploads/2021/12/Beitragsbild-Ökumene.png
END:VEVENT
BEGIN:VEVENT
DTSTART;TZID=Europe/Berlin:20260523T120000
DTEND;TZID=Europe/Berlin:20260523T120000
DTSTAMP:20260422T105223
CREATED:20260326T183433Z
LAST-MODIFIED:20260326T183433Z
UID:11590-1779537600-1779537600@katholisch-neuwied.de
SUMMARY:St. Matthias: Musik zum Mittagsläuten
DESCRIPTION:
URL:https://katholisch-neuwied.de/event/st-matthias-musik-zum-mittagslaeuten-2/
CATEGORIES:Veranstaltungen (allgemein)
ATTACH;FMTTYPE=image/jpeg:https://katholisch-neuwied.de/wp-content/uploads/2021/03/St.-Matthias.jpg
END:VEVENT
BEGIN:VEVENT
DTSTART;VALUE=DATE:20260526
DTEND;VALUE=DATE:20260527
DTSTAMP:20260422T105223
CREATED:20260316T184049Z
LAST-MODIFIED:20260316T184049Z
UID:11496-1779753600-1779839999@katholisch-neuwied.de
SUMMARY:kfd-Dekanat Neuwied: Fahrt zur Echternacher Springprozession
DESCRIPTION:
URL:https://katholisch-neuwied.de/event/kfd-dekanat-neuwied-fahrt-zur-echternacher-springprozession/
CATEGORIES:Veranstaltungen (allgemein)
ATTACH;FMTTYPE=image/jpeg:https://katholisch-neuwied.de/wp-content/uploads/2023/01/Beitragsbild-kfd-Logo.jpg
END:VEVENT
BEGIN:VEVENT
DTSTART;TZID=Europe/Berlin:20260531T103000
DTEND;TZID=Europe/Berlin:20260531T103000
DTSTAMP:20260422T105223
CREATED:20260325T181957Z
LAST-MODIFIED:20260325T181957Z
UID:11559-1780223400-1780223400@katholisch-neuwied.de
SUMMARY:Kolping-Wallfahrt nach Hausenborn
DESCRIPTION:Zur traditionellen Kolping-Bezirkswallfahrt am Dreifaltigkeitssonntag\, 31.05.2026\, zur Marienwallfahrtskapelle Hausenborn laden die Kolpinggeschwister auch in diesem Jahr wieder herzlich ein. Die Pilgergemeinschaft mit Bannerträgern trifft sich am Spielmannshäuschen um 10:30 Uhr\, um von dort zur Kirchenruine mit Gebet und Gesang aufzubrechen. Die Hl. Messe beginnt um 11:00 Uhr und wird vom Kolpingbruder und Ruhestandspriester Herbert Günter gehalten. Anschließend besteht die Möglichkeit\, sich mit einem Imbiss (Kuchen und Grillwurst) sowie Kaltgetränken zu stärken. Herzliche Einladung an alle Interessierten. Weitere Info: Werner Hammes\, Tel.: 02631/58922 (AB).
URL:https://katholisch-neuwied.de/event/kolping-wallfahrt-nach-hausenborn/
CATEGORIES:Veranstaltungen (allgemein)
ATTACH;FMTTYPE=image/jpeg:https://katholisch-neuwied.de/wp-content/uploads/2021/10/Beitragsbild-Kolpingsfamilie.jpg
END:VEVENT
BEGIN:VEVENT
DTSTART;TZID=Europe/Berlin:20260601T190000
DTEND;TZID=Europe/Berlin:20260601T190000
DTSTAMP:20260422T105223
CREATED:20260325T181321Z
LAST-MODIFIED:20260325T181321Z
UID:11555-1780340400-1780340400@katholisch-neuwied.de
SUMMARY:Pfarrheim St. Matthias: Bibel-Gesprächskreis für Männer
DESCRIPTION:Das zentrale Element unserer Treffen ist die Auseinandersetzung mit Texten aus dem Neuen Testament. Wir beschäftigen uns im Regelfall mit dem Evangelium des folgenden Sonntags. Dabei wenden wir die Methode des „Bibelteilens“ an\, die jedem Teilnehmer die Möglichkeit gibt\, sich einzubringen – ohne dass dafür Vorkenntnisse erforderlich wären. \nDie Treffen bauen nicht aufeinander auf\, so dass jederzeit ein Einstieg oder nur eine gelegentliche Teilnahme möglich ist. Wir treffen uns in der Regel an jedem ersten Montag eines Monats um 19:00 Uhr im „Matthiasstübchen“ (Pfarrheim bei der St.-Matthias-Kirche). Der „offizielle Teil“ – bestehend aus einem Gebet zu Beginn\, Bibelteilen\, Fürbitten\, Vaterunser und einem Schlussgebet – endet im Regelfall gegen 20:30 Uhr. \nDer nächste Gesprächskreis findet im Pfarrheim St. Matthias am Montag\, 1. Juni 2026 um 19:00 Uhr statt. \nZu unseren Treffen kommen Teilnehmer aller Altersstufen aus den verschiedenen Kirchorten der Pfarrei Neuwied St. Matthias. Also herzliche Einladung an alle interessierte Herren – neue Teilnehmer sind jederzeit willkommen! \nEine vorherige Anmeldung ist nicht erforderlich.
URL:https://katholisch-neuwied.de/event/pfarrheim-st-matthias-bibel-gespraechskreis-fuer-maenner-2/
CATEGORIES:Veranstaltungen (allgemein)
ATTACH;FMTTYPE=image/jpeg:https://katholisch-neuwied.de/wp-content/uploads/2021/03/St.-Matthias.jpg
END:VEVENT
BEGIN:VEVENT
DTSTART;TZID=Europe/Berlin:20260607T110000
DTEND;TZID=Europe/Berlin:20260607T110000
DTSTAMP:20260422T105223
CREATED:20260218T162623Z
LAST-MODIFIED:20260326T185239Z
UID:11287-1780830000-1780830000@katholisch-neuwied.de
SUMMARY:Hl. Kreuz: kinder:zeit
DESCRIPTION:
URL:https://katholisch-neuwied.de/event/hl-kreuz-kinderzeit-3/
ATTACH;FMTTYPE=image/jpeg:https://katholisch-neuwied.de/wp-content/uploads/2026/03/Beitragsbild-Kinderzeit.jpg
END:VEVENT
BEGIN:VEVENT
DTSTART;TZID=Europe/Berlin:20260619T100000
DTEND;TZID=Europe/Berlin:20260619T100000
DTSTAMP:20260422T105223
CREATED:20260308T204738Z
LAST-MODIFIED:20260308T204738Z
UID:11433-1781863200-1781863200@katholisch-neuwied.de
SUMMARY:Glaubens-Gesprächskreis für Frauen
DESCRIPTION:
URL:https://katholisch-neuwied.de/event/glaubens-gespraechskreis-fuer-frauen/
CATEGORIES:Veranstaltungen (allgemein)
ATTACH;FMTTYPE=image/png:https://katholisch-neuwied.de/wp-content/uploads/2021/12/Beitragsbild-Ökumene.png
END:VEVENT
BEGIN:VEVENT
DTSTART;TZID=Europe/Berlin:20260621T170000
DTEND;TZID=Europe/Berlin:20260621T170000
DTSTAMP:20260422T105223
CREATED:20260218T161150Z
LAST-MODIFIED:20260218T161150Z
UID:11276-1782061200-1782061200@katholisch-neuwied.de
SUMMARY:St. Matthias: Feier der Ehejubiläen
DESCRIPTION:„Liebe miteinander leben“ \nDie Einladung richtet sich an alle Paare aus unserer Pfarrgemeinde Neuwied St. Matthias an den sechs Kirchorten\, die in diesem Jahr ein Ehejubiläum feiern oder schon gefeiert haben. Sie sind eingeladen\, für den gemeinsamen Eheweg zu danken\, das Jubiläum zu feiern und um den Segen Gottes zu bitten. \nAm Sonntag\, 21. Juni 2026 wollen wir dies tun mit einem festlichen Gottesdienst um 17:00 Uhr in St. Matthias einschließlich der Einzelsegnung der Paare. \nIm Anschluss daran sind alle zu einem Sektempfang in der Kirche eingeladen.
URL:https://katholisch-neuwied.de/event/st-matthias-feier-der-ehejubilaeen/
ATTACH;FMTTYPE=image/jpeg:https://katholisch-neuwied.de/wp-content/uploads/2021/03/St.-Matthias.jpg
END:VEVENT
BEGIN:VEVENT
DTSTART;TZID=Europe/Berlin:20260622T190000
DTEND;TZID=Europe/Berlin:20260622T190000
DTSTAMP:20260422T105223
CREATED:20260312T191403Z
LAST-MODIFIED:20260312T191403Z
UID:11465-1782154800-1782154800@katholisch-neuwied.de
SUMMARY:Kath. Familien-Bildungsstätte: Einblicke ins Markusevangelium
DESCRIPTION:„Sogar die unreinen Geister gehorchen seinem Befehl“ (Mk 1\,21–28)\nUnreine Geister und der Heilige Gottes \nDas Markusevangelium\, das älteste der vier Evangelien\, stellt eine ebenso herausfordernde wie faszinierende Frage: Kann ein gekreuzigter Mensch wirklich Erlöser sein? Pastoralreferent Alexander Just vom Pastoralen Raum Neuwied lädt dazu ein\, sich mit dieser provokanten Perspektive des Markusevangeliums auseinanderzusetzen. \nIm Mittelpunkt steht ein Messias „von unten“. Das Markusevangelium erzählt nicht von einem triumphierenden Sieger\, sondern von einem von der römischen Staatsmacht Gekreuzigten. Doch welche Hoffnung kann von einem solchen Messias ausgehen? Welche Bedeutung hat der Glaube an Jesus als Retter angesichts von Krieg\, Gewalt und Zerstörung? \nDie Markusgemeinde lebte unter der brutalen römischen Gewaltherrschaft und war geprägt vom Trauma des römisch-jüdischen Krieges\, der in der Zerstörung Jerusalems und des Tempels endete. Vor diesem Hintergrund richtet das Evangelium den Blick radikal auf die Kreuzigung Jesu. Der Glaube an Jesus als den Messias Israels musste neu bedacht\, neu ausgesprochen und neu geglaubt werden. \nIst der Glaube an Jesus als Messias angesichts von Leid\, Gewalt und Tod widerlegt?\nWie kann ein Gekreuzigter als Retter und Befreier verstanden werden?\nUnd ist die Hoffnung auf Auferstehung mehr als eine fromme Illusion? \nIn der Auseinandersetzung mit der Theologie des Markus geht es auch um unsere Gegenwart: Welche Orientierung kann der Glaube heute geben – mitten in den Krisen und Herausforderungen unserer Zeit? Die Reihe versteht sich als Einladung zum Nachdenken\, zum Fragen und zum Hoffen. \nDie Reihe ist eine Kooperationsveranstaltung des Pastoralen Raums Neuwied\, der Katholischen Erwachsenenbildung Koblenz\, der Katholischen Familienbildungsstätte Neuwied und des Ökumenischen Netzes Rhein-Mosel-Saar e. V. \n 
URL:https://katholisch-neuwied.de/event/kath-familien-bildungsstaette-einblicke-ins-markusevangelium/
CATEGORIES:Veranstaltungen (allgemein)
ATTACH;FMTTYPE=image/jpeg:https://katholisch-neuwied.de/wp-content/uploads/2023/06/Beitragsbild-Pastoraler-Raum-NR.jpg
END:VEVENT
BEGIN:VEVENT
DTSTART;TZID=Europe/Berlin:20260830T180000
DTEND;TZID=Europe/Berlin:20260830T180000
DTSTAMP:20260422T105223
CREATED:20260312T213852Z
LAST-MODIFIED:20260312T214211Z
UID:11482-1788112800-1788112800@katholisch-neuwied.de
SUMMARY:Heddesdorfer Kirche: Evensong
DESCRIPTION:
URL:https://katholisch-neuwied.de/event/st-matthias-evensong/
CATEGORIES:Veranstaltungen (allgemein)
ATTACH;FMTTYPE=image/png:https://katholisch-neuwied.de/wp-content/uploads/2021/09/Beitragsbild-Neuwieder-Evensong.png
END:VEVENT
END:VCALENDAR